BEGIN:VCALENDAR
VERSION:2.0
PRODID:-//Securex - ECPv6.15.17.1//NONSGML v1.0//EN
CALSCALE:GREGORIAN
METHOD:PUBLISH
X-WR-CALNAME:Securex
X-ORIGINAL-URL:https://securex.lu/en/
X-WR-CALDESC:Events for Securex
REFRESH-INTERVAL;VALUE=DURATION:PT1H
X-Robots-Tag:noindex
X-PUBLISHED-TTL:PT1H
BEGIN:VTIMEZONE
TZID:Europe/Paris
BEGIN:DAYLIGHT
TZOFFSETFROM:+0100
TZOFFSETTO:+0200
TZNAME:CEST
DTSTART:20250330T010000
END:DAYLIGHT
BEGIN:STANDARD
TZOFFSETFROM:+0200
TZOFFSETTO:+0100
TZNAME:CET
DTSTART:20251026T010000
END:STANDARD
BEGIN:DAYLIGHT
TZOFFSETFROM:+0100
TZOFFSETTO:+0200
TZNAME:CEST
DTSTART:20260329T010000
END:DAYLIGHT
BEGIN:STANDARD
TZOFFSETFROM:+0200
TZOFFSETTO:+0100
TZNAME:CET
DTSTART:20261025T010000
END:STANDARD
BEGIN:DAYLIGHT
TZOFFSETFROM:+0100
TZOFFSETTO:+0200
TZNAME:CEST
DTSTART:20270328T010000
END:DAYLIGHT
BEGIN:STANDARD
TZOFFSETFROM:+0200
TZOFFSETTO:+0100
TZNAME:CET
DTSTART:20271031T010000
END:STANDARD
END:VTIMEZONE
BEGIN:VEVENT
DTSTART;TZID=Europe/Paris:20260113T100000
DTEND;TZID=Europe/Paris:20260113T103000
DTSTAMP:20260423T101347
CREATED:20251223T104526Z
LAST-MODIFIED:20251223T105809Z
UID:7029-1768298400-1768300200@securex.lu
SUMMARY:Legal payroll 2026
DESCRIPTION:At the beginning of January\, our team invites you to join the “Legal payroll 2026” webinar. During this session\, we will review the key legal and regulatory changes affecting payroll management in 2026\, including updates to contribution rates and statutory parameters. \nThis webinar is the perfect opportunity to gain a clear overview of upcoming developments\, anticipate their impact on your payroll processes\, and put your questions directly to our experts. \nLearn more
URL:https://securex.lu/en/se-former/legal-payroll-2026/
ATTACH;FMTTYPE=image/jpeg:https://securex.lu/wp-content/uploads/2025/12/payroll-2026.jpg
END:VEVENT
END:VCALENDAR