BEGIN:VCALENDAR
VERSION:2.0
PRODID:-//Securex - ECPv6.15.17.1//NONSGML v1.0//EN
CALSCALE:GREGORIAN
METHOD:PUBLISH
X-WR-CALNAME:Securex
X-ORIGINAL-URL:https://securex.lu/en/
X-WR-CALDESC:Events for Securex
REFRESH-INTERVAL;VALUE=DURATION:PT1H
X-Robots-Tag:noindex
X-PUBLISHED-TTL:PT1H
BEGIN:VTIMEZONE
TZID:Europe/Paris
BEGIN:DAYLIGHT
TZOFFSETFROM:+0100
TZOFFSETTO:+0200
TZNAME:CEST
DTSTART:20240331T010000
END:DAYLIGHT
BEGIN:STANDARD
TZOFFSETFROM:+0200
TZOFFSETTO:+0100
TZNAME:CET
DTSTART:20241027T010000
END:STANDARD
BEGIN:DAYLIGHT
TZOFFSETFROM:+0100
TZOFFSETTO:+0200
TZNAME:CEST
DTSTART:20250330T010000
END:DAYLIGHT
BEGIN:STANDARD
TZOFFSETFROM:+0200
TZOFFSETTO:+0100
TZNAME:CET
DTSTART:20251026T010000
END:STANDARD
BEGIN:DAYLIGHT
TZOFFSETFROM:+0100
TZOFFSETTO:+0200
TZNAME:CEST
DTSTART:20260329T010000
END:DAYLIGHT
BEGIN:STANDARD
TZOFFSETFROM:+0200
TZOFFSETTO:+0100
TZNAME:CET
DTSTART:20261025T010000
END:STANDARD
END:VTIMEZONE
BEGIN:VEVENT
DTSTART;TZID=Europe/Paris:20250123T100000
DTEND;TZID=Europe/Paris:20250123T120000
DTSTAMP:20260425T223000
CREATED:20241213T164154Z
LAST-MODIFIED:20241218T122900Z
UID:4138-1737626400-1737633600@securex.lu
SUMMARY:Tax reform 2025
DESCRIPTION:Anticipate the impacts of the 2025 tax reform! This training is designed for HR professionals and employees who want to understand the upcoming tax changes and optimize in 2025 their compensation strategies. Learn how these new measures can increase employees’ purchasing power while enhancing your company’s attractiveness and competitiveness.
URL:https://securex.lu/en/se-former/tax-reform-2025/
LOCATION:Novotel Luxembourg\, 35\, rue du Laboratoire\, Luxembourg\, L-1911\, Luxembourg
ATTACH;FMTTYPE=image/jpeg:https://securex.lu/wp-content/uploads/2024/12/tax-reform-2025-1.jpg
END:VEVENT
END:VCALENDAR