BEGIN:VCALENDAR
VERSION:2.0
PRODID:-//Securex - ECPv6.15.17.1//NONSGML v1.0//EN
CALSCALE:GREGORIAN
METHOD:PUBLISH
X-ORIGINAL-URL:https://securex.lu
X-WR-CALDESC:Évènements pour Securex
REFRESH-INTERVAL;VALUE=DURATION:PT1H
X-Robots-Tag:noindex
X-PUBLISHED-TTL:PT1H
BEGIN:VTIMEZONE
TZID:Europe/Paris
BEGIN:DAYLIGHT
TZOFFSETFROM:+0100
TZOFFSETTO:+0200
TZNAME:CEST
DTSTART:20240331T010000
END:DAYLIGHT
BEGIN:STANDARD
TZOFFSETFROM:+0200
TZOFFSETTO:+0100
TZNAME:CET
DTSTART:20241027T010000
END:STANDARD
BEGIN:DAYLIGHT
TZOFFSETFROM:+0100
TZOFFSETTO:+0200
TZNAME:CEST
DTSTART:20250330T010000
END:DAYLIGHT
BEGIN:STANDARD
TZOFFSETFROM:+0200
TZOFFSETTO:+0100
TZNAME:CET
DTSTART:20251026T010000
END:STANDARD
BEGIN:DAYLIGHT
TZOFFSETFROM:+0100
TZOFFSETTO:+0200
TZNAME:CEST
DTSTART:20260329T010000
END:DAYLIGHT
BEGIN:STANDARD
TZOFFSETFROM:+0200
TZOFFSETTO:+0100
TZNAME:CET
DTSTART:20261025T010000
END:STANDARD
BEGIN:DAYLIGHT
TZOFFSETFROM:+0100
TZOFFSETTO:+0200
TZNAME:CEST
DTSTART:20270328T010000
END:DAYLIGHT
BEGIN:STANDARD
TZOFFSETFROM:+0200
TZOFFSETTO:+0100
TZNAME:CET
DTSTART:20271031T010000
END:STANDARD
END:VTIMEZONE
BEGIN:VEVENT
DTSTART;TZID=Europe/Paris:20260311T083000
DTEND;TZID=Europe/Paris:20260317T163000
DTSTAMP:20260425T025138
CREATED:20260119T215025Z
LAST-MODIFIED:20260119T215025Z
UID:10000085-1773217800-1773765000@securex.lu
SUMMARY:Payroll Academy
DESCRIPTION:Conçue pour maîtriser le calcul de salaire au Luxembourg en seulement 5 jours\, cette formation innovante\, accessible sans pré-requis\, s’adresse tant aux personnes souhaitant se réorienter ou devenir gestionnaire de salaire qu’aux professionnels des ressources humaines au Luxembourg. \n 
URL:https://securex.lu/se-former/payroll-academy-3/
LOCATION:Mondorf Domaine Thermal\, 2a Avenue Docteur Ernest Feltgen\, Mondorf les bains\, Luxembourg
ATTACH;FMTTYPE=image/png:https://securex.lu/wp-content/uploads/2024/08/Payroll-Academy-1.png
END:VEVENT
BEGIN:VEVENT
DTSTART;TZID=Europe/Paris:20251022T083000
DTEND;TZID=Europe/Paris:20251028T163000
DTSTAMP:20260425T025138
CREATED:20250128T151343Z
LAST-MODIFIED:20250610T074927Z
UID:10000060-1761121800-1761669000@securex.lu
SUMMARY:Payroll Academy
DESCRIPTION:Conçue pour maîtriser le calcul de salaire au Luxembourg en seulement 5 jours\, cette formation innovante\, accessible sans pré-requis\, s’adresse tant aux personnes souhaitant se réorienter ou devenir gestionnaire de salaire qu’aux professionnels des ressources humaines au Luxembourg.
URL:https://securex.lu/se-former/payroll-academy-2/
LOCATION:Mondorf Domaine Thermal\, 2a Avenue Docteur Ernest Feltgen\, Mondorf les bains\, Luxembourg
ATTACH;FMTTYPE=image/png:https://securex.lu/wp-content/uploads/2024/08/Payroll-Academy-1.png
END:VEVENT
END:VCALENDAR