BEGIN:VCALENDAR
VERSION:2.0
PRODID:-//Securex - ECPv6.15.17.1//NONSGML v1.0//EN
CALSCALE:GREGORIAN
METHOD:PUBLISH
X-WR-CALNAME:Securex
X-ORIGINAL-URL:https://securex.lu
X-WR-CALDESC:Évènements pour Securex
REFRESH-INTERVAL;VALUE=DURATION:PT1H
X-Robots-Tag:noindex
X-PUBLISHED-TTL:PT1H
BEGIN:VTIMEZONE
TZID:Europe/Paris
BEGIN:DAYLIGHT
TZOFFSETFROM:+0100
TZOFFSETTO:+0200
TZNAME:CEST
DTSTART:20250330T010000
END:DAYLIGHT
BEGIN:STANDARD
TZOFFSETFROM:+0200
TZOFFSETTO:+0100
TZNAME:CET
DTSTART:20251026T010000
END:STANDARD
BEGIN:DAYLIGHT
TZOFFSETFROM:+0100
TZOFFSETTO:+0200
TZNAME:CEST
DTSTART:20260329T010000
END:DAYLIGHT
BEGIN:STANDARD
TZOFFSETFROM:+0200
TZOFFSETTO:+0100
TZNAME:CET
DTSTART:20261025T010000
END:STANDARD
BEGIN:DAYLIGHT
TZOFFSETFROM:+0100
TZOFFSETTO:+0200
TZNAME:CEST
DTSTART:20270328T010000
END:DAYLIGHT
BEGIN:STANDARD
TZOFFSETFROM:+0200
TZOFFSETTO:+0100
TZNAME:CET
DTSTART:20271031T010000
END:STANDARD
END:VTIMEZONE
BEGIN:VEVENT
DTSTART;TZID=Europe/Paris:20260129T123000
DTEND;TZID=Europe/Paris:20260129T140000
DTSTAMP:20260423T120338
CREATED:20251223T143334Z
LAST-MODIFIED:20260112T103459Z
UID:7051-1769689800-1769695200@securex.lu
SUMMARY:Transparence des rémunérations : anticipez vos nouvelles obligations
DESCRIPTION:L’égalité salariale devient une obligation mesurable\, pas un simple idéal.\nLa directive 2023/970 impose une transparence accrue : fourchettes salariales dans les annonces\, accès aux données par les salariés\, publication des écarts…\nNe subissez pas la réforme : transformez-la en opportunité pour renforcer la confiance\, l’équité et votre attractivité RH. \nCette formation vous donnera les clés pour anticiper la transposition au Luxembourg et connaitre vos futures obligations. \nEn savoir plus
URL:https://securex.lu/se-former/transparence-des-remunerations-anticiper-vos-nouvelles-obligations/
ATTACH;FMTTYPE=image/jpeg:https://securex.lu/wp-content/uploads/2025/12/transparence-salariale.jpg
END:VEVENT
END:VCALENDAR